BEGIN:VCALENDAR
VERSION:2.0
PRODID:-//Optimatics - ECPv6.15.20//NONSGML v1.0//EN
CALSCALE:GREGORIAN
METHOD:PUBLISH
X-ORIGINAL-URL:https://optimatics.com
X-WR-CALDESC:Events for Optimatics
REFRESH-INTERVAL;VALUE=DURATION:PT1H
X-Robots-Tag:noindex
X-PUBLISHED-TTL:PT1H
BEGIN:VTIMEZONE
TZID:UTC
BEGIN:STANDARD
TZOFFSETFROM:+0000
TZOFFSETTO:+0000
TZNAME:UTC
DTSTART:20250101T000000
END:STANDARD
END:VTIMEZONE
BEGIN:VEVENT
DTSTART;VALUE=DATE:20260602
DTEND;VALUE=DATE:20260605
DTSTAMP:20260422T215520
CREATED:20260409T141206Z
LAST-MODIFIED:20260409T141206Z
UID:6246-1780358400-1780617599@optimatics.com
SUMMARY:SWAN Annual Conference 2026
DESCRIPTION:Join Optimatics at Ozwater 2026\, Australia’s premier water industry conference and exhibition. Bringing together utilities\, researchers\, and technology providers\, Ozwater showcases the latest innovations\, research\, and solutions shaping the future of water management. \nWith a strong emphasis on collaboration\, sustainability\, and digital transformation\, the event offers a comprehensive program of technical sessions and networking opportunities. Connect with the Optimatics team to discover how our advanced optimization and decision-support solutions are helping utilities improve performance\, enhance resilience\, and plan with confidence.
URL:https://optimatics.com/events/swan-annual-conference-2026/
ATTACH;FMTTYPE=image/jpeg:https://optimatics.com/wp-content/uploads/2026/04/optimatics-conferencee.jpg
END:VEVENT
END:VCALENDAR