BEGIN:VCALENDAR
VERSION:2.0
PRODID:-//Optimatics - ECPv6.15.20//NONSGML v1.0//EN
CALSCALE:GREGORIAN
METHOD:PUBLISH
X-ORIGINAL-URL:https://optimatics.com
X-WR-CALDESC:Events for Optimatics
REFRESH-INTERVAL;VALUE=DURATION:PT1H
X-Robots-Tag:noindex
X-PUBLISHED-TTL:PT1H
BEGIN:VTIMEZONE
TZID:UTC
BEGIN:STANDARD
TZOFFSETFROM:+0000
TZOFFSETTO:+0000
TZNAME:UTC
DTSTART:20250101T000000
END:STANDARD
END:VTIMEZONE
BEGIN:VEVENT
DTSTART;VALUE=DATE:20260519
DTEND;VALUE=DATE:20260521
DTSTAMP:20260422T215939
CREATED:20260409T135852Z
LAST-MODIFIED:20260409T135852Z
UID:6240-1779148800-1779321599@optimatics.com
SUMMARY:Utility Week Live 2026
DESCRIPTION:Join Optimatics at Utility Week Live 2026\, the UK’s leading utilities industry event\, bringing together water\, energy\, and infrastructure professionals. With a strong focus on innovation\, collaboration\, and the future of utilities\, the event features expert-led sessions\, interactive exhibits\, and valuable networking opportunities. \nWe’re excited to connect with industry leaders to discuss how Optimatics’ advanced optimization solutions are supporting smarter\, more resilient utility operations. Visit us to learn how data-driven decision-making can help you tackle complex challenges and deliver better outcomes for your customers and communities.
URL:https://optimatics.com/events/utility-week-live-2026/
ATTACH;FMTTYPE=image/jpeg:https://optimatics.com/wp-content/uploads/2026/04/Mobile-AL.jpg
END:VEVENT
BEGIN:VEVENT
DTSTART;VALUE=DATE:20260526
DTEND;VALUE=DATE:20260529
DTSTAMP:20260422T215939
CREATED:20260409T140956Z
LAST-MODIFIED:20260409T140956Z
UID:6242-1779753600-1780012799@optimatics.com
SUMMARY:Ozwater 2026
DESCRIPTION:Join Optimatics at Ozwater 2026\, Australia’s premier water industry conference and exhibition. Bringing together utilities\, researchers\, and technology providers\, Ozwater showcases the latest innovations\, research\, and solutions shaping the future of water management. \nWith a strong emphasis on collaboration\, sustainability\, and digital transformation\, the event offers a comprehensive program of technical sessions and networking opportunities. Connect with the Optimatics team to discover how our advanced optimization and decision-support solutions are helping utilities improve performance\, enhance resilience\, and plan with confidence.
URL:https://optimatics.com/events/ozwater-2026/
ATTACH;FMTTYPE=image/jpeg:https://optimatics.com/wp-content/uploads/2026/04/water-event-optimatics.jpg
END:VEVENT
BEGIN:VEVENT
DTSTART;VALUE=DATE:20260602
DTEND;VALUE=DATE:20260605
DTSTAMP:20260422T215939
CREATED:20260409T141206Z
LAST-MODIFIED:20260409T141206Z
UID:6246-1780358400-1780617599@optimatics.com
SUMMARY:SWAN Annual Conference 2026
DESCRIPTION:Join Optimatics at Ozwater 2026\, Australia’s premier water industry conference and exhibition. Bringing together utilities\, researchers\, and technology providers\, Ozwater showcases the latest innovations\, research\, and solutions shaping the future of water management. \nWith a strong emphasis on collaboration\, sustainability\, and digital transformation\, the event offers a comprehensive program of technical sessions and networking opportunities. Connect with the Optimatics team to discover how our advanced optimization and decision-support solutions are helping utilities improve performance\, enhance resilience\, and plan with confidence.
URL:https://optimatics.com/events/swan-annual-conference-2026/
ATTACH;FMTTYPE=image/jpeg:https://optimatics.com/wp-content/uploads/2026/04/optimatics-conferencee.jpg
END:VEVENT
BEGIN:VEVENT
DTSTART;VALUE=DATE:20260608
DTEND;VALUE=DATE:20260610
DTSTAMP:20260422T215939
CREATED:20260409T141408Z
LAST-MODIFIED:20260409T141408Z
UID:6250-1780876800-1781049599@optimatics.com
SUMMARY:Climate Solutions Festival 2026
DESCRIPTION:Join Optimatics at the Climate Solutions Festival 2026\, a global event bringing together innovators\, industry leaders\, and change-makers focused on tackling climate challenges. The festival showcases cutting-edge solutions\, breakthrough technologies\, and collaborative approaches aimed at accelerating climate action. \nWith a diverse program of presentations\, panels\, and networking opportunities\, the event highlights practical strategies for building a more sustainable and resilient future. Connect with the Optimatics team to explore how our advanced optimization and decision-support solutions support climate resilience\, smarter resource management\, and sustainable infrastructure planning.
URL:https://optimatics.com/events/climate-solutions-festival-2026/
ATTACH;FMTTYPE=image/jpeg:https://optimatics.com/wp-content/uploads/2026/04/festival-optimatics.jpg
END:VEVENT
END:VCALENDAR